BEGIN:VCALENDAR
VERSION:2.0
PRODID:-//Live Like Sam - ECPv6.15.20//NONSGML v1.0//EN
CALSCALE:GREGORIAN
METHOD:PUBLISH
X-WR-CALNAME:Live Like Sam
X-ORIGINAL-URL:https://livelikesam.org
X-WR-CALDESC:Events for Live Like Sam
REFRESH-INTERVAL;VALUE=DURATION:PT1H
X-Robots-Tag:noindex
X-PUBLISHED-TTL:PT1H
BEGIN:VTIMEZONE
TZID:America/Denver
BEGIN:DAYLIGHT
TZOFFSETFROM:-0700
TZOFFSETTO:-0600
TZNAME:MDT
DTSTART:20250309T090000
END:DAYLIGHT
BEGIN:STANDARD
TZOFFSETFROM:-0600
TZOFFSETTO:-0700
TZNAME:MST
DTSTART:20251102T080000
END:STANDARD
BEGIN:DAYLIGHT
TZOFFSETFROM:-0700
TZOFFSETTO:-0600
TZNAME:MDT
DTSTART:20260308T090000
END:DAYLIGHT
BEGIN:STANDARD
TZOFFSETFROM:-0600
TZOFFSETTO:-0700
TZNAME:MST
DTSTART:20261101T080000
END:STANDARD
BEGIN:DAYLIGHT
TZOFFSETFROM:-0700
TZOFFSETTO:-0600
TZNAME:MDT
DTSTART:20270314T090000
END:DAYLIGHT
BEGIN:STANDARD
TZOFFSETFROM:-0600
TZOFFSETTO:-0700
TZNAME:MST
DTSTART:20271107T080000
END:STANDARD
END:VTIMEZONE
BEGIN:VEVENT
DTSTART;TZID=America/Denver:20260814T170000
DTEND;TZID=America/Denver:20260814T193000
DTSTAMP:20260422T202920
CREATED:20260422T224734Z
LAST-MODIFIED:20260422T224734Z
UID:10000205-1786726800-1786735800@livelikesam.org
SUMMARY:Volunteer at Outdoor Movie Night
DESCRIPTION:Live Like Sam is looking for volunteers (8th grade and older) to help us at  the Free Outdoor Movie Night. Volunteers will help hand out stickers\, bracelets\, and candy while also sharing simple well-being and resilience skills with kids and families. It’s a great way to connect with the community\, spread positivity\, and earn volunteer hours. \nEmail Programs@Livelikesam.org to volunteer 
URL:https://livelikesam.org/event/volunteer-at-outdoor-movie-night/
LOCATION:Kamas Rodeo Grounds\, 50 East 400 South\, Kamas\, UT\, 84036\, United States
CATEGORIES:LLS Events,Volunteer Opportunities
END:VEVENT
END:VCALENDAR