BEGIN:VCALENDAR
VERSION:2.0
PRODID:-//Live Like Sam - ECPv6.15.20//NONSGML v1.0//EN
CALSCALE:GREGORIAN
METHOD:PUBLISH
X-WR-CALNAME:Live Like Sam
X-ORIGINAL-URL:https://livelikesam.org
X-WR-CALDESC:Events for Live Like Sam
REFRESH-INTERVAL;VALUE=DURATION:PT1H
X-Robots-Tag:noindex
X-PUBLISHED-TTL:PT1H
BEGIN:VTIMEZONE
TZID:America/Denver
BEGIN:DAYLIGHT
TZOFFSETFROM:-0700
TZOFFSETTO:-0600
TZNAME:MDT
DTSTART:20250309T090000
END:DAYLIGHT
BEGIN:STANDARD
TZOFFSETFROM:-0600
TZOFFSETTO:-0700
TZNAME:MST
DTSTART:20251102T080000
END:STANDARD
BEGIN:DAYLIGHT
TZOFFSETFROM:-0700
TZOFFSETTO:-0600
TZNAME:MDT
DTSTART:20260308T090000
END:DAYLIGHT
BEGIN:STANDARD
TZOFFSETFROM:-0600
TZOFFSETTO:-0700
TZNAME:MST
DTSTART:20261101T080000
END:STANDARD
BEGIN:DAYLIGHT
TZOFFSETFROM:-0700
TZOFFSETTO:-0600
TZNAME:MDT
DTSTART:20270314T090000
END:DAYLIGHT
BEGIN:STANDARD
TZOFFSETFROM:-0600
TZOFFSETTO:-0700
TZNAME:MST
DTSTART:20271107T080000
END:STANDARD
END:VTIMEZONE
BEGIN:VEVENT
DTSTART;TZID=America/Denver:20260618T170000
DTEND;TZID=America/Denver:20260618T193000
DTSTAMP:20260422T202516
CREATED:20260422T221540Z
LAST-MODIFIED:20260422T221540Z
UID:10000204-1781802000-1781811000@livelikesam.org
SUMMARY:Volunteer at Summer Movie Night
DESCRIPTION:Live Like Sam is looking for volunteers (8th grade and older) to help us at the Summer Movie Night event.  Volunteers will help hand out stickers\, bracelets\, and candy while also sharing simple well-being and resilience skills with kids and families. It’s a great way to connect with the community\, spread positivity\, and earn volunteer hours. \nEmail Programs@livelikesam.org to sign up to volunteer
URL:https://livelikesam.org/event/volunteer-at-summer-movie-night/
CATEGORIES:LLS Events,Volunteer Opportunities
END:VEVENT
END:VCALENDAR